BEGIN:VCALENDAR
VERSION:2.0
PRODID:-//sep&#039;UP - ECPv5.16.0//NONSGML v1.0//EN
CALSCALE:GREGORIAN
METHOD:PUBLISH
X-ORIGINAL-URL:https://sepup.fr
X-WR-CALDESC:évènements pour sep&#039;UP
REFRESH-INTERVAL;VALUE=DURATION:PT1H
X-Robots-Tag:noindex
X-PUBLISHED-TTL:PT1H
BEGIN:VTIMEZONE
TZID:Europe/Paris
BEGIN:DAYLIGHT
TZOFFSETFROM:+0100
TZOFFSETTO:+0200
TZNAME:CEST
DTSTART:20220327T010000
END:DAYLIGHT
BEGIN:STANDARD
TZOFFSETFROM:+0200
TZOFFSETTO:+0100
TZNAME:CET
DTSTART:20221030T010000
END:STANDARD
END:VTIMEZONE
BEGIN:VEVENT
DTSTART;TZID=Europe/Paris:20221203T080000
DTEND;TZID=Europe/Paris:20221204T170000
DTSTAMP:20260422T130447
CREATED:20220502T130133Z
LAST-MODIFIED:20220503T132720Z
UID:983-1670054400-1670173200@sepup.fr
SUMMARY:La SaintéLyon
DESCRIPTION:La diagonale mythique\nUn parcours historique de Saint-Etienne à Lyon via les crêtes des Monts du Lyonnais \nAu programme : un ballet de frontales\, une expérience nocturne pour une course mythique à faire une fois dans sa vie. \nLes infos clés\n\nKilomètres : 78km\nDénivelé positif : 2300m\nDénivelé négatif : 2630m\n4 points de ravitaillements complets\,\n1 point liquide chaud et froid\n+ repas d’arrivée\nRavito 1 : Saint-Christo-en-Jarez\nRavito 2 : Sainte-Catherine\nRavito 3 « Liquide » : Le Camp – Saint Genou\nRavito 4 : Soucieu-en-Jarrest\nRavito 5 : Chaponost\n\n\nParticipant: Catherine\, Isabelle
URL:https://sepup.fr/evenement/la-saintelyon/
LOCATION:Lyon\, 69000\, France
CATEGORIES:La SaintéLyon
END:VEVENT
END:VCALENDAR